BEGIN:VCALENDAR
VERSION:2.0
PRODID:-//C.V. de Saksen - ECPv6.9.0//NONSGML v1.0//EN
CALSCALE:GREGORIAN
METHOD:PUBLISH
X-WR-CALNAME:C.V. de Saksen
X-ORIGINAL-URL:https://www.desaksen.nl
X-WR-CALDESC:Evenementen voor C.V. de Saksen
REFRESH-INTERVAL;VALUE=DURATION:PT1H
X-Robots-Tag:noindex
X-PUBLISHED-TTL:PT1H
BEGIN:VTIMEZONE
TZID:Europe/Amsterdam
BEGIN:DAYLIGHT
TZOFFSETFROM:+0100
TZOFFSETTO:+0200
TZNAME:CEST
DTSTART:20230326T010000
END:DAYLIGHT
BEGIN:STANDARD
TZOFFSETFROM:+0200
TZOFFSETTO:+0100
TZNAME:CET
DTSTART:20231029T010000
END:STANDARD
BEGIN:DAYLIGHT
TZOFFSETFROM:+0100
TZOFFSETTO:+0200
TZNAME:CEST
DTSTART:20240331T010000
END:DAYLIGHT
BEGIN:STANDARD
TZOFFSETFROM:+0200
TZOFFSETTO:+0100
TZNAME:CET
DTSTART:20241027T010000
END:STANDARD
END:VTIMEZONE
BEGIN:VEVENT
DTSTART;TZID=Europe/Amsterdam:20240213T020000
DTEND;TZID=Europe/Amsterdam:20240213T160000
DTSTAMP:20260425T162115
CREATED:20240209T152531Z
LAST-MODIFIED:20240209T152531Z
UID:2027-1707789600-1707840000@www.desaksen.nl
SUMMARY:Seniorenmiddag
DESCRIPTION:Wat: Seniorenmiddag \nWaar: residentie ’t Onderdak\, J.P. Gouverneurlaan 40A\, Sassenheim \nWanneer: dinsdag 13 februari om 14.00 uur \nOok aan de senioren zijn er gedacht. Een geheel verzorgde en muzikale middag met optredens van de Saksen zelf en zangkoor De Bollen Mina’s. \n 
URL:https://www.desaksen.nl/event/seniorenmiddag/
END:VEVENT
BEGIN:VEVENT
DTSTART;TZID=Europe/Amsterdam:20240212T083000
DTEND;TZID=Europe/Amsterdam:20240212T083000
DTSTAMP:20260425T162115
CREATED:20240209T152211Z
LAST-MODIFIED:20240209T152211Z
UID:2025-1707726600-1707726600@www.desaksen.nl
SUMMARY:Feestavond Code Oranje
DESCRIPTION:Wat: Feestavond Code oranje \nWaar: Residentie ’t Onderdak\, J.P. Gouverneurlaan 40A\, Sassenheim \nWanneer: maandag 12 februari om 20.30 uur \nHet is code oranje\, dus trek je mooiste outfit aan! Samen met Branding XL en De Straatklinkers maken we er een feestje van.\nDonateurs gratis\nKaart in voorverkoop bij Bloemen- en Plantenhandel van Tol in Sassenheim €7\,50\nAan de zaal: €10\,-\n  \n 
URL:https://www.desaksen.nl/event/feestavond-code-oranje/
END:VEVENT
BEGIN:VEVENT
DTSTART;TZID=Europe/Amsterdam:20240211T090000
DTEND;TZID=Europe/Amsterdam:20240211T230000
DTSTAMP:20260425T162115
CREATED:20240203T093742Z
LAST-MODIFIED:20240203T093742Z
UID:2011-1707642000-1707692400@www.desaksen.nl
SUMMARY:Früshoppen
DESCRIPTION:Wat: Früshoppen \nWaar: Residentie ’t Onderdak\, J.P. Gouverneurlaan 40A\, Sassenheim \nWanneer: zondag 11 februari om 09.00 uur \nEntree: 18+ \nWe beginnen de dag goed met een drankje en hapje en natuurlijk heerlijke muziek van DJ Stayfan!\n\nVOL=VOL
URL:https://www.desaksen.nl/event/frushoppen/
END:VEVENT
BEGIN:VEVENT
DTSTART;TZID=Europe/Amsterdam:20240211T020000
DTEND;TZID=Europe/Amsterdam:20240211T173000
DTSTAMP:20260425T162115
CREATED:20240209T151347Z
LAST-MODIFIED:20240209T151347Z
UID:2020-1707616800-1707672600@www.desaksen.nl
SUMMARY:Familiecarnaval
DESCRIPTION:Wat: Familiecarnaval \nWaar: Residentie ’t Onderdak\, J.P. Gouverneurlaan 40A\, Sassenheim \nWanneer: zondag 11 februari om 14.00 uur \nDeze middag zal voor de jongste uit Sassenheim zeker een geslaagde middag worden. Beyond Magic zal zorgen voor een betoverde goochelshow. Er zal weer genoeg te snoepen en drinken zijn en natuurlijk zal de Saksenjeugd wat optredens verzorgen. Het eind van de middag eten we gezellig een patatje met onze prinses\, jeugdprins\, jeugdprinses en adjudanten. \n 
URL:https://www.desaksen.nl/event/familiecarnaval/
END:VEVENT
BEGIN:VEVENT
DTSTART;TZID=Europe/Amsterdam:20240210T150000
DTEND;TZID=Europe/Amsterdam:20240210T170000
DTSTAMP:20260425T162115
CREATED:20240203T092943Z
LAST-MODIFIED:20240203T092943Z
UID:2007-1707577200-1707584400@www.desaksen.nl
SUMMARY:Optocht Sassenheim
DESCRIPTION:Wat: Optocht in Sassenheim \nWaar: Centrum Sassenheim \nWanneer: Zaterdag 10 februari om 15.00 uur \nKom allemaal 10 februari om 15.00 uur naar ons mooie dorp Sassenheim om te genieten van een gezellige carnavalsoptocht. Met karren\, loopgroepen en andere verenigingen zullen we voor een mooie optocht zorgen. \n 
URL:https://www.desaksen.nl/event/optocht-sassenheim/
END:VEVENT
BEGIN:VEVENT
DTSTART;TZID=Europe/Amsterdam:20240210T083000
DTEND;TZID=Europe/Amsterdam:20240210T233000
DTSTAMP:20260425T162115
CREATED:20240203T093456Z
LAST-MODIFIED:20240203T093456Z
UID:2009-1707553800-1707607800@www.desaksen.nl
SUMMARY:First Letter Party
DESCRIPTION:Wat: Themafeest First Letter Party \nWaar: Residentie ’t Onderdak\, J.P. Gouverneurlaan 40A\, Sassenheim \nWanneer: zaterdag 10 februari om 20.30 uur \nEntree: donateurs gratis\, kaart in voorverkoop bij bloemen- en plantenhandel van tol in Sassenheim €7\,50 Aan de zaal: €10\,- let op VOL=VOL en legitimatie is verplicht \nDresscode: kom verkleed als de eerste letter van je naam \nSamen met Michiels Mega Party en De Flierefluiters bouwen we één groot feest. \n 
URL:https://www.desaksen.nl/event/first-letter-party/
END:VEVENT
BEGIN:VEVENT
DTSTART;TZID=Europe/Amsterdam:20240209T213000
DTEND;TZID=Europe/Amsterdam:20240209T230000
DTSTAMP:20260425T162115
CREATED:20240202T161304Z
LAST-MODIFIED:20240202T161304Z
UID:2002-1707514200-1707519600@www.desaksen.nl
SUMMARY:Sleuteloverhandiging
DESCRIPTION:Wat: Sleuteloverhandiging \nWaar: Residentie ’t Onderdak\, J.P. Gouverneurlaan 40A\, Sassenheim \nWanneer: vrijdag 9 februari om 21.30 uur \nNa de verlichte optocht in Noordwijk zullen Prinses Marieke Adjudanten Daan & Koos\, Jeugdprins Keano en Prinses Bella de sleutel overhandigt krijgen van het Saksenrijk \n 
URL:https://www.desaksen.nl/event/sleuteloverhandiging/
END:VEVENT
BEGIN:VEVENT
DTSTART;TZID=Europe/Amsterdam:20240209T190000
DTEND;TZID=Europe/Amsterdam:20240209T203000
DTSTAMP:20260425T162115
CREATED:20240202T160929Z
LAST-MODIFIED:20240202T160929Z
UID:2000-1707505200-1707510600@www.desaksen.nl
SUMMARY:Verlichte optocht Noordwijk
DESCRIPTION:Wat: Verlichte optocht in Noordwijk met andere carnvalsverenigen \nWaar: Noordwijk \nWanneer: vrijdag 9 februari om 19.00 uur \nOp deze avond rijden en lopen we natuurlijk mee met de verlichte optocht bij de Noordtukkers. Kom allemaal kijken voor een prachtige optocht!
URL:https://www.desaksen.nl/event/verlichte-optocht-noordwijk/
END:VEVENT
BEGIN:VEVENT
DTSTART;TZID=Europe/Amsterdam:20240209T100000
DTEND;TZID=Europe/Amsterdam:20240209T120000
DTSTAMP:20260425T162115
CREATED:20240202T161541Z
LAST-MODIFIED:20240202T161541Z
UID:2004-1707472800-1707480000@www.desaksen.nl
SUMMARY:Karaoke Party
DESCRIPTION:Wat: Karaoke party \nWaar: Residentie ’t Onderdak\, J.P. Gouverneurlaan 40A\, Sassenheim \nWanneer: Vrijdag 9 februari om 22.00 uur \nBen je na de verlichte optocht nog niet klaar met feesten? Kom dan naar Residentie ’t Onderdak voor een gezellige Karaokeparty
URL:https://www.desaksen.nl/event/karaoke-party/
END:VEVENT
BEGIN:VEVENT
DTSTART;TZID=Europe/Amsterdam:20240209T010000
DTEND;TZID=Europe/Amsterdam:20240212T190000
DTSTAMP:20260425T162115
CREATED:20240209T151812Z
LAST-MODIFIED:20240209T151812Z
UID:2023-1707440400-1707764400@www.desaksen.nl
SUMMARY:Boerenbruiloft
DESCRIPTION:Wat: Boerenbruiloft \nWaar: Gemeentewinkel/Gemeentehuis Sassenheim\, Wilhelminalaan 25\, Sassenheim \nWanneer: maandag 12 februari om 13.00 uur \nOp maandag 12 februari trouwen:\nGeert Gerstenat & Bregje Schimmelpenninck\nIn de gemeentewinkel te Sassenheim.\nKaarten voor de boerenkoolmaaltijd à €8\,- zijn tot 9 februari verkrijgbaar bij bloemenhandel van Tol.
URL:https://www.desaksen.nl/event/boerenbruiloft/
END:VEVENT
BEGIN:VEVENT
DTSTART;TZID=Europe/Amsterdam:20240204T100000
DTEND;TZID=Europe/Amsterdam:20240204T120000
DTSTAMP:20260425T162115
CREATED:20240202T160629Z
LAST-MODIFIED:20240202T160629Z
UID:1998-1707040800-1707048000@www.desaksen.nl
SUMMARY:Carnavalsmis
DESCRIPTION:Wat: Kerkdienst onder leiding van Pastoor Owel \nWaar: St. Pancratiuskerk\, Hoofdstraat 88\, Sassenheim \nWanneer: Zondag 4 februari om 10.00 uur \nEen gezellige carnavalsmis waar iedereen natuurlijk welkom is. Kom gezellig verkleed naar de kerk dan maken we er samen met de Flierefluiters en Koor ViVo er een feestje van
URL:https://www.desaksen.nl/event/carnavalsmis/
END:VEVENT
BEGIN:VEVENT
DTSTART;TZID=Europe/Amsterdam:20230127T080000
DTEND;TZID=Europe/Amsterdam:20230127T170000
DTSTAMP:20260425T162115
CREATED:20230127T080559Z
LAST-MODIFIED:20230127T082431Z
UID:1770-1674806400-1674838800@www.desaksen.nl
SUMMARY:test
DESCRIPTION:calkaxsjcjasndxnjm
URL:https://www.desaksen.nl/event/test/
ATTACH;FMTTYPE=image/jpeg:https://www.desaksen.nl/wp-content/uploads/2023/01/1b7a1b05-c3b9-43e8-9293-230830841ea2.jpg
END:VEVENT
END:VCALENDAR